BEGIN:VCALENDAR
VERSION:2.0
PRODID:-//St Luke’s Church - ECPv6.15.20//NONSGML v1.0//EN
CALSCALE:GREGORIAN
METHOD:PUBLISH
X-WR-CALNAME:St Luke’s Church
X-ORIGINAL-URL:http://www.stlukemoulsham.co.uk
X-WR-CALDESC:Events for St Luke’s Church
REFRESH-INTERVAL;VALUE=DURATION:PT1H
X-Robots-Tag:noindex
X-PUBLISHED-TTL:PT1H
BEGIN:VTIMEZONE
TZID:UTC
BEGIN:STANDARD
TZOFFSETFROM:+0000
TZOFFSETTO:+0000
TZNAME:UTC
DTSTART:20250101T000000
END:STANDARD
END:VTIMEZONE
BEGIN:VEVENT
DTSTART;TZID=UTC:20260503T100000
DTEND;TZID=UTC:20260503T110000
DTSTAMP:20260422T094143
CREATED:20260418T111838Z
LAST-MODIFIED:20260418T112530Z
UID:10005344-1777802400-1777806000@www.stlukemoulsham.co.uk
SUMMARY:Morning Worship
DESCRIPTION:
URL:http://www.stlukemoulsham.co.uk/event/morning-worship-29/2026-05-03/
LOCATION:St. Luke’s Church
END:VEVENT
BEGIN:VEVENT
DTSTART;TZID=UTC:20260517T100000
DTEND;TZID=UTC:20260517T110000
DTSTAMP:20260422T094143
CREATED:20260418T111838Z
LAST-MODIFIED:20260418T112530Z
UID:10005345-1779012000-1779015600@www.stlukemoulsham.co.uk
SUMMARY:Morning Worship
DESCRIPTION:
URL:http://www.stlukemoulsham.co.uk/event/morning-worship-29/2026-05-17/
LOCATION:St. Luke’s Church
END:VEVENT
END:VCALENDAR