BEGIN:VCALENDAR
VERSION:2.0
PRODID:-//St Luke’s Church - ECPv6.15.20//NONSGML v1.0//EN
CALSCALE:GREGORIAN
METHOD:PUBLISH
X-WR-CALNAME:St Luke’s Church
X-ORIGINAL-URL:http://www.stlukemoulsham.co.uk
X-WR-CALDESC:Events for St Luke’s Church
REFRESH-INTERVAL;VALUE=DURATION:PT1H
X-Robots-Tag:noindex
X-PUBLISHED-TTL:PT1H
BEGIN:VTIMEZONE
TZID:UTC
BEGIN:STANDARD
TZOFFSETFROM:+0000
TZOFFSETTO:+0000
TZNAME:UTC
DTSTART:20250101T000000
END:STANDARD
END:VTIMEZONE
BEGIN:VEVENT
DTSTART;TZID=UTC:20260510T100000
DTEND;TZID=UTC:20260510T110000
DTSTAMP:20260420T121152
CREATED:20260418T112022Z
LAST-MODIFIED:20260418T112629Z
UID:10005372-1778407200-1778410800@www.stlukemoulsham.co.uk
SUMMARY:Holy Communion
DESCRIPTION:
URL:http://www.stlukemoulsham.co.uk/event/holy-communion-40/2026-05-10/
LOCATION:St. Luke’s Church
END:VEVENT
BEGIN:VEVENT
DTSTART;TZID=UTC:20260524T100000
DTEND;TZID=UTC:20260524T110000
DTSTAMP:20260420T121152
CREATED:20260418T112022Z
LAST-MODIFIED:20260418T112629Z
UID:10005373-1779616800-1779620400@www.stlukemoulsham.co.uk
SUMMARY:Holy Communion
DESCRIPTION:
URL:http://www.stlukemoulsham.co.uk/event/holy-communion-40/2026-05-24/
LOCATION:St. Luke’s Church
END:VEVENT
END:VCALENDAR