BEGIN:VCALENDAR
VERSION:2.0
PRODID:-//St Luke’s Church - ECPv6.15.20//NONSGML v1.0//EN
CALSCALE:GREGORIAN
METHOD:PUBLISH
X-WR-CALNAME:St Luke’s Church
X-ORIGINAL-URL:https://www.stlukemoulsham.co.uk
X-WR-CALDESC:Events for St Luke’s Church
REFRESH-INTERVAL;VALUE=DURATION:PT1H
X-Robots-Tag:noindex
X-PUBLISHED-TTL:PT1H
BEGIN:VTIMEZONE
TZID:UTC
BEGIN:STANDARD
TZOFFSETFROM:+0000
TZOFFSETTO:+0000
TZNAME:UTC
DTSTART:20250101T000000
END:STANDARD
END:VTIMEZONE
BEGIN:VEVENT
DTSTART;TZID=UTC:20260614T100000
DTEND;TZID=UTC:20260614T110000
DTSTAMP:20260420T130031
CREATED:20260418T112301Z
LAST-MODIFIED:20260418T112301Z
UID:10005406-1781431200-1781434800@www.stlukemoulsham.co.uk
SUMMARY:Holy Communion
DESCRIPTION:
URL:https://www.stlukemoulsham.co.uk/event/holy-communion-41/2026-06-14/
LOCATION:St. Luke’s Church
END:VEVENT
BEGIN:VEVENT
DTSTART;TZID=UTC:20260628T100000
DTEND;TZID=UTC:20260628T110000
DTSTAMP:20260420T130031
CREATED:20260418T112301Z
LAST-MODIFIED:20260418T112301Z
UID:10005407-1782640800-1782644400@www.stlukemoulsham.co.uk
SUMMARY:Holy Communion
DESCRIPTION:
URL:https://www.stlukemoulsham.co.uk/event/holy-communion-41/2026-06-28/
LOCATION:St. Luke’s Church
END:VEVENT
BEGIN:VEVENT
DTSTART;TZID=UTC:20260712T100000
DTEND;TZID=UTC:20260712T110000
DTSTAMP:20260420T130031
CREATED:20260418T112301Z
LAST-MODIFIED:20260418T112301Z
UID:10005408-1783850400-1783854000@www.stlukemoulsham.co.uk
SUMMARY:Holy Communion
DESCRIPTION:
URL:https://www.stlukemoulsham.co.uk/event/holy-communion-41/2026-07-12/
LOCATION:St. Luke’s Church
END:VEVENT
BEGIN:VEVENT
DTSTART;TZID=UTC:20260726T100000
DTEND;TZID=UTC:20260726T110000
DTSTAMP:20260420T130031
CREATED:20260418T112301Z
LAST-MODIFIED:20260418T112301Z
UID:10005409-1785060000-1785063600@www.stlukemoulsham.co.uk
SUMMARY:Holy Communion
DESCRIPTION:
URL:https://www.stlukemoulsham.co.uk/event/holy-communion-41/2026-07-26/
LOCATION:St. Luke’s Church
END:VEVENT
BEGIN:VEVENT
DTSTART;TZID=UTC:20260809T100000
DTEND;TZID=UTC:20260809T110000
DTSTAMP:20260420T130031
CREATED:20260418T112301Z
LAST-MODIFIED:20260418T112301Z
UID:10005410-1786269600-1786273200@www.stlukemoulsham.co.uk
SUMMARY:Holy Communion
DESCRIPTION:
URL:https://www.stlukemoulsham.co.uk/event/holy-communion-41/2026-08-09/
LOCATION:St. Luke’s Church
END:VEVENT
BEGIN:VEVENT
DTSTART;TZID=UTC:20260823T100000
DTEND;TZID=UTC:20260823T110000
DTSTAMP:20260420T130031
CREATED:20260418T112301Z
LAST-MODIFIED:20260418T112301Z
UID:10005411-1787479200-1787482800@www.stlukemoulsham.co.uk
SUMMARY:Holy Communion
DESCRIPTION:
URL:https://www.stlukemoulsham.co.uk/event/holy-communion-41/2026-08-23/
LOCATION:St. Luke’s Church
END:VEVENT
END:VCALENDAR